BEGIN:VCALENDAR
VERSION:2.0
PRODID:-//https://events4.rsjoomla.com///NONSGML kigkonsult.se iCalcreator 2.10.15//
METHOD:PUBLISH
BEGIN:VEVENT
UID:20260426T041947UTC-8769U0X8VR@https://events4.rsjoomla.com/
DTSTAMP:20260426T041947Z
DESCRIPTION:Earth's mightiest heroes must come together and learn to fight 
 as a team if they are to stop the mischievous Loki and his alien army from
  enslaving humanity. https://events4.rsjoomla.com/list-events/event/76-ave
 ngers-the-movie.html
DTSTART:20260426T040140Z
DTEND:20260428T040140Z
LOCATION:RSEvents!Pro Cinema (New York\, NY\, USA)
SUMMARY:Avengers - The Movie
URL:https://events4.rsjoomla.com/list-events/event/76-avengers-the-movie.ht
 ml
END:VEVENT
END:VCALENDAR
