BEGIN:VCALENDAR
VERSION:2.0
PRODID:-//https://events4.rsjoomla.com///NONSGML kigkonsult.se iCalcreator 2.10.15//
METHOD:PUBLISH
BEGIN:VEVENT
UID:20260425T204031UTC-7394mT0MRB@https://events4.rsjoomla.com/
DTSTAMP:20260425T204031Z
DESCRIPTION:Need to present your business offer in a coherent\, yet eye-cat
 ching manner that will inspire credibility to potential customers? RSPenta
 ! is the right way to go! https://events4.rsjoomla.com/calendar/event/1-rs
 penta-release.html
DTSTART;VALUE=DATE:20260425
LOCATION:RSEvents!Pro Location (Colorado\, USA)
SUMMARY:RSPenta! Release!
URL:https://events4.rsjoomla.com/calendar/event/1-rspenta-release.html
END:VEVENT
END:VCALENDAR
